BEGIN:VCALENDAR
VERSION:2.0
PRODID:-//St. Brigid&#039;s National School, Cortown - ECPv4.6.1//NONSGML v1.0//EN
CALSCALE:GREGORIAN
METHOD:PUBLISH
X-WR-CALNAME:St. Brigid&#039;s National School, Cortown
X-ORIGINAL-URL:http://cortownns.ie
X-WR-CALDESC:Events for St. Brigid&#039;s National School, Cortown
BEGIN:VEVENT
DTSTART;TZID=UTC+0:20171018T200000
DTEND;TZID=UTC+0:20171018T210000
DTSTAMP:20171024T040235
CREATED:20171011T172504Z
LAST-MODIFIED:20171011T172504Z
UID:141-1508356800-1508360400@cortownns.ie
SUMMARY:Parents Association Meeting
DESCRIPTION:
URL:http://cortownns.ie/index.php/event/parents-association-meeting/
END:VEVENT
END:VCALENDAR